BEGIN:VCALENDAR
VERSION:2.0
PRODID:-//Universo Equino - ECPv6.15.20//NONSGML v1.0//EN
CALSCALE:GREGORIAN
METHOD:PUBLISH
X-WR-CALNAME:Universo Equino
X-ORIGINAL-URL:https://universoequino.com.br
X-WR-CALDESC:Eventos para Universo Equino
REFRESH-INTERVAL;VALUE=DURATION:PT1H
X-Robots-Tag:noindex
X-PUBLISHED-TTL:PT1H
BEGIN:VTIMEZONE
TZID:America/Sao_Paulo
BEGIN:STANDARD
TZOFFSETFROM:-0200
TZOFFSETTO:-0300
TZNAME:-03
DTSTART:20160221T020000
END:STANDARD
BEGIN:DAYLIGHT
TZOFFSETFROM:-0300
TZOFFSETTO:-0200
TZNAME:-02
DTSTART:20161016T030000
END:DAYLIGHT
BEGIN:STANDARD
TZOFFSETFROM:-0200
TZOFFSETTO:-0300
TZNAME:-03
DTSTART:20170219T020000
END:STANDARD
BEGIN:DAYLIGHT
TZOFFSETFROM:-0300
TZOFFSETTO:-0200
TZNAME:-02
DTSTART:20171015T030000
END:DAYLIGHT
BEGIN:STANDARD
TZOFFSETFROM:-0200
TZOFFSETTO:-0300
TZNAME:-03
DTSTART:20180218T020000
END:STANDARD
BEGIN:DAYLIGHT
TZOFFSETFROM:-0300
TZOFFSETTO:-0200
TZNAME:-02
DTSTART:20181104T030000
END:DAYLIGHT
END:VTIMEZONE
BEGIN:VEVENT
DTSTART;VALUE=DATE:20170420
DTEND;VALUE=DATE:20170424
DTSTAMP:20260423T163406
CREATED:20170119T181330Z
LAST-MODIFIED:20170119T182007Z
UID:194-1492646400-1492991999@universoequino.com.br
SUMMARY:VIII Simcav
DESCRIPTION:VIII Simpósio Internacional do Cavalo Atleta \nVIII Simcav \n 
URL:https://universoequino.com.br/evento/viii-simcav/
LOCATION:Belo Horizonte\, Brasil
CATEGORIES:Congressos
END:VEVENT
END:VCALENDAR